BEGIN:VCALENDAR
VERSION:2.0
PRODID:-//Justine Froelker - ECPv6.8.1//NONSGML v1.0//EN
CALSCALE:GREGORIAN
METHOD:PUBLISH
X-WR-CALNAME:Justine Froelker
X-ORIGINAL-URL:https://justinefroelker.com
X-WR-CALDESC:Events for Justine Froelker
REFRESH-INTERVAL;VALUE=DURATION:PT1H
X-Robots-Tag:noindex
X-PUBLISHED-TTL:PT1H
BEGIN:VTIMEZONE
TZID:America/Chicago
BEGIN:DAYLIGHT
TZOFFSETFROM:-0600
TZOFFSETTO:-0500
TZNAME:CDT
DTSTART:20240310T080000
END:DAYLIGHT
BEGIN:STANDARD
TZOFFSETFROM:-0500
TZOFFSETTO:-0600
TZNAME:CST
DTSTART:20241103T070000
END:STANDARD
END:VTIMEZONE
BEGIN:VEVENT
DTSTART;TZID=America/Chicago:20240514T100000
DTEND;TZID=America/Chicago:20240514T113000
DTSTAMP:20260422T171028
CREATED:20240201T131139Z
LAST-MODIFIED:20240215T225432Z
UID:10085-1715680800-1715686200@justinefroelker.com
SUMMARY:Enterprise University - Who We Are Is How We Lead: How Your Values Can Create Courage - Free Virtual Workshop - Registration is open
DESCRIPTION:Whether virtually or in person\, showing up fully and courageously means we must lean into the discomfort of vulnerability as our full self\, values in hand and at heart\, without the armor. It is then we will be able to connect with others and build trust. Join Justine Froelker in this workshop to identify what your values are\, how they show up in behavior\, and how to live and lead in alignment with them. \n\nUnderstand the role of courage and vulnerability in daring leadership\nLearn how values operate in our professional lives and the role they play in daring leadership\nIdentify your core values and the behaviors that support these values
URL:https://justinefroelker.com/event/enterprise-university-who-we-are-is-how-we-lead-how-your-values-can-create-courage-free-virtual-workshop-registration-coming-soon/
LOCATION:Virtual Event\, Virtual Event\, United States
CATEGORIES:Business,Leadership
END:VEVENT
END:VCALENDAR