BEGIN:VCALENDAR
VERSION:2.0
PRODID:-//Justine Froelker - ECPv6.8.1//NONSGML v1.0//EN
CALSCALE:GREGORIAN
METHOD:PUBLISH
X-WR-CALNAME:Justine Froelker
X-ORIGINAL-URL:https://justinefroelker.com
X-WR-CALDESC:Events for Justine Froelker
REFRESH-INTERVAL;VALUE=DURATION:PT1H
X-Robots-Tag:noindex
X-PUBLISHED-TTL:PT1H
BEGIN:VTIMEZONE
TZID:America/Chicago
BEGIN:DAYLIGHT
TZOFFSETFROM:-0600
TZOFFSETTO:-0500
TZNAME:CDT
DTSTART:20250309T080000
END:DAYLIGHT
BEGIN:STANDARD
TZOFFSETFROM:-0500
TZOFFSETTO:-0600
TZNAME:CST
DTSTART:20251102T070000
END:STANDARD
END:VTIMEZONE
BEGIN:VEVENT
DTSTART;TZID=America/Chicago:20250828T080000
DTEND;TZID=America/Chicago:20250828T093000
DTSTAMP:20260425T085352
CREATED:20250710T161434Z
LAST-MODIFIED:20250815T175347Z
UID:14217-1756368000-1756373400@justinefroelker.com
SUMMARY:ATD St. Louis - In Person Speaker Series: Emotional Well-Being: To Feel It and Not Be It
DESCRIPTION:More information and registration here.\nIn Person Speaker Series: Emotional Well-Being: To Feel It and Not Be It\n\n\n\n\nNavigate the demands of talent development with courage. This Courage is Built Here™ workshop equips you to process emotions\, build resilience\, and lead authentically. Learn to feel without being overwhelmed and create space for trust\, clarity\, and emotional well-being in your work.\n\n\n\n\n\n\n\n\n\n\n\n\n\n\n\n\n\n\n\n\n\n\n\n\n\n\n\n\n\n\n\n\n\n\n\n\n\nLearning Objectives \nAttendees will be able to: \n\nRecognize and Process Emotions Constructively: Develop the ability to identify\, name\, and understand your emotions in real time\, using them as data to inform thoughtful and intentional responses. \n Build Emotional Resilience and Agility: Practice strategies to create space between feeling and reacting\, allowing you to remain grounded\, adaptable\, and effective in high-pressure or emotionally charged situations. \n Model Emotional Well-Being and Authentic Leadership: Learn to embody emotional health and authenticity\, fostering trust and connection within teams while contributing to a culture of clarity\, empathy\, and collaboration.
URL:https://justinefroelker.com/event/atd-st-louis-in-person-speaker-series-emotional-well-being-to-feel-it-and-not-be-it/
LOCATION:The Lodge Des Peres\, 1050 Des Peres Road\, Des Peres\, MO\, 63131\, United States
ORGANIZER;CN="ATD St. Louis":MAILTO:communications@atdstl.org
END:VEVENT
END:VCALENDAR