BEGIN:VCALENDAR
VERSION:2.0
PRODID:-//Justine Froelker - ECPv6.8.1//NONSGML v1.0//EN
CALSCALE:GREGORIAN
METHOD:PUBLISH
X-ORIGINAL-URL:https://justinefroelker.com
X-WR-CALDESC:Events for Justine Froelker
REFRESH-INTERVAL;VALUE=DURATION:PT1H
X-Robots-Tag:noindex
X-PUBLISHED-TTL:PT1H
BEGIN:VTIMEZONE
TZID:America/Chicago
BEGIN:DAYLIGHT
TZOFFSETFROM:-0600
TZOFFSETTO:-0500
TZNAME:CDT
DTSTART:20240310T080000
END:DAYLIGHT
BEGIN:STANDARD
TZOFFSETFROM:-0500
TZOFFSETTO:-0600
TZNAME:CST
DTSTART:20241103T070000
END:STANDARD
BEGIN:DAYLIGHT
TZOFFSETFROM:-0600
TZOFFSETTO:-0500
TZNAME:CDT
DTSTART:20250309T080000
END:DAYLIGHT
BEGIN:STANDARD
TZOFFSETFROM:-0500
TZOFFSETTO:-0600
TZNAME:CST
DTSTART:20251102T070000
END:STANDARD
BEGIN:DAYLIGHT
TZOFFSETFROM:-0600
TZOFFSETTO:-0500
TZNAME:CDT
DTSTART:20260308T080000
END:DAYLIGHT
BEGIN:STANDARD
TZOFFSETFROM:-0500
TZOFFSETTO:-0600
TZNAME:CST
DTSTART:20261101T070000
END:STANDARD
END:VTIMEZONE
BEGIN:VEVENT
DTSTART;TZID=America/Chicago:20240924T100000
DTEND;TZID=America/Chicago:20240924T113000
DTSTAMP:20260422T171411
CREATED:20240730T221128Z
LAST-MODIFIED:20240814T135000Z
UID:11736-1727172000-1727177400@justinefroelker.com
SUMMARY:Enterprise University: An Introduction to Courage is Built Here.™ - Free Virtual Workshop – Registration is open
DESCRIPTION:This workshop will introduce participants to the Five Tenets of a Courageous Life. Participants will leave the workshop with a deeper understanding of themselves and equipped with practical tools to lead with authenticity and courage. You’ll learn to build resilient\, empathetic and trustworthy relationships to ultimately create a life and leadership style rooted in courage and love. \n\nUnderstand the importance of vulnerability in building authentic connections and trust within workplaces\, organizations and teams\nImprove self-awareness\, recognizing how emotions show up for us and impact our interactions with others\nExplore strategies to prioritize emotional well-being\, fostering a supportive and resilient workplace and organizational culture
URL:https://justinefroelker.com/event/enterprise-university-an-introduction-to-courage-is-built-here-free-virtual-workshop-registration-is-open/
LOCATION:Virtual Event\, Virtual Event\, United States
CATEGORIES:Business,Leadership
END:VEVENT
BEGIN:VEVENT
DTSTART;TZID=America/Chicago:20241112T100000
DTEND;TZID=America/Chicago:20241112T113000
DTSTAMP:20260422T171411
CREATED:20240730T221800Z
LAST-MODIFIED:20241001T201917Z
UID:11738-1731405600-1731411000@justinefroelker.com
SUMMARY:Enterprise University: Harnessing the Power of Empathy - Free Virtual Workshop - Registration is open
DESCRIPTION:In our fast-paced\, often-disconnected world\, empathy isn’t just a nice-to-have; it’s a must-have. In this workshop\, you’ll harness the power of empathy to create deeply connected and stronger\, more resilient teams. You’ll learn what empathy truly is — and what it is not. This session will equip participants with the tools to foster authentic empathy to drive empathy\, connection and resilience. \n\nUnderstand the true meaning of empathy and differentiate it from common misconceptions\nLearn to embrace vulnerability as a crucial component of empathetic interactions\nGain practical skills to go beyond surface-level understanding in order to both listen and respond with empathy
URL:https://justinefroelker.com/event/enterprise-university-harnessing-the-power-of-empathy-free-virtual-workshop-registration-is-open/
LOCATION:Virtual Event\, Virtual Event\, United States
CATEGORIES:Business,Leadership
END:VEVENT
BEGIN:VEVENT
DTSTART;TZID=America/Chicago:20250325T100000
DTEND;TZID=America/Chicago:20250325T113000
DTSTAMP:20260422T171411
CREATED:20250203T141809Z
LAST-MODIFIED:20250319T134839Z
UID:12869-1742896800-1742902200@justinefroelker.com
SUMMARY:Enterprise University: An Introduction to Courage is Built Here.™ - Free Virtual Workshop – Registration is open
DESCRIPTION:Courage Is Built Here is a comprehensive curriculum based on Justine Froelker’s 25 years of teaching people how to lead a courageous life by loving and living well. In this workshop\, Justine will introduce participants to the Five Tenets of a Courageous Life. Participants will leave the workshop with a deeper understanding of themselves and equipped with practical tools to lead with authenticity and courage. You’ll learn to build resilient\, empathetic and trustworthy relationships to ultimately create a life and leadership style rooted in courage and love. \n\nUnderstand the importance of vulnerability in building authentic connections and trust within workplaces\, organizations and teams\nImprove self-awareness\, recognizing how emotions show up for us and impact our interactions with others\nExplore strategies to prioritize emotional well-being\, fostering a supportive and resilient workplace and organizational culture
URL:https://justinefroelker.com/event/enterprise-university-an-introduction-to-courage-is-built-here-free-virtual-workshop-registration-coming-soon/
LOCATION:Virtual Event\, Virtual Event\, United States
CATEGORIES:Business,Leadership
END:VEVENT
BEGIN:VEVENT
DTSTART;TZID=America/Chicago:20250520T100000
DTEND;TZID=America/Chicago:20250520T113000
DTSTAMP:20260422T171411
CREATED:20250203T142832Z
LAST-MODIFIED:20250411T195853Z
UID:12870-1747735200-1747740600@justinefroelker.com
SUMMARY:Enterprise University: To Feel It\, Not Be It: Leading and Working with Emotional Well-Being - Free Virtual Workshop - Registration is open
DESCRIPTION:Leadership requires engaging with emotions in a healthy\, grounded way. This workshop invites leaders to develop the skill of feeling emotions without allowing them to dictate reactions or create overwhelm. Participants will gain insight into how emotions impact relationships and leadership. Through practical tools and strategies\, participants will learn to lead with authenticity\, cultivating a team culture that empowers everyone to live and work in alignment with their values.   \n\n\n\nLearn how values operate in our lives and how they show up with those we love and lead.\nLearn emotional literacy and how emotions show up.\nLearn how to identify emotions\, cope with them effectively\, and how to stop reacting from them
URL:https://justinefroelker.com/event/enterprise-university-to-feel-it-not-be-it-leading-and-working-with-emotional-well-being-free-virtual-workshop-registration-coming-soon/
LOCATION:Virtual Event\, Virtual Event\, United States
CATEGORIES:Business,Leadership
END:VEVENT
BEGIN:VEVENT
DTSTART;TZID=America/Chicago:20250828T080000
DTEND;TZID=America/Chicago:20250828T093000
DTSTAMP:20260422T171411
CREATED:20250710T161434Z
LAST-MODIFIED:20250815T175347Z
UID:14217-1756368000-1756373400@justinefroelker.com
SUMMARY:ATD St. Louis - In Person Speaker Series: Emotional Well-Being: To Feel It and Not Be It
DESCRIPTION:More information and registration here.\nIn Person Speaker Series: Emotional Well-Being: To Feel It and Not Be It\n\n\n\n\nNavigate the demands of talent development with courage. This Courage is Built Here™ workshop equips you to process emotions\, build resilience\, and lead authentically. Learn to feel without being overwhelmed and create space for trust\, clarity\, and emotional well-being in your work.\n\n\n\n\n\n\n\n\n\n\n\n\n\n\n\n\n\n\n\n\n\n\n\n\n\n\n\n\n\n\n\n\n\n\n\n\n\nLearning Objectives \nAttendees will be able to: \n\nRecognize and Process Emotions Constructively: Develop the ability to identify\, name\, and understand your emotions in real time\, using them as data to inform thoughtful and intentional responses. \n Build Emotional Resilience and Agility: Practice strategies to create space between feeling and reacting\, allowing you to remain grounded\, adaptable\, and effective in high-pressure or emotionally charged situations. \n Model Emotional Well-Being and Authentic Leadership: Learn to embody emotional health and authenticity\, fostering trust and connection within teams while contributing to a culture of clarity\, empathy\, and collaboration.
URL:https://justinefroelker.com/event/atd-st-louis-in-person-speaker-series-emotional-well-being-to-feel-it-and-not-be-it/
LOCATION:The Lodge Des Peres\, 1050 Des Peres Road\, Des Peres\, MO\, 63131\, United States
ORGANIZER;CN="ATD St. Louis":MAILTO:communications@atdstl.org
END:VEVENT
BEGIN:VEVENT
DTSTART;TZID=America/Chicago:20250911T100000
DTEND;TZID=America/Chicago:20250911T113000
DTSTAMP:20260422T171411
CREATED:20250715T174046Z
LAST-MODIFIED:20250815T180325Z
UID:14361-1757584800-1757590200@justinefroelker.com
SUMMARY:Enterprise University: Courage is Built Here. - FREE Virtual Workshop – Registration is open
DESCRIPTION:More information and registration here. \nCourage Is Built Here™: The Skills\, Tools and Language of Courageous Leadership \nCourage Is Built Here is a transformative curriculum created by Justine Froelker from more than 25 years of experience helping people live\, love and lead well. This workshop equips participants with tools to build self-awareness\, authenticity and resilience\, fostering a deeper connection at both work and home. Participants will leave with a stronger sense of self and practical ways to lead with courage. \n\nRecognize the role of vulnerability to build authentic connections and trust within teams\nImprove self-awareness\, recognizing how emotions show up and impact our interactions with others\nLearn how to prioritize emotional well-being to foster a supportive and resilient work culture
URL:https://justinefroelker.com/event/enterprise-university-courage-is-built-here-free-virtual-workshop-registration-is-open/
LOCATION:Virtual Event\, Virtual Event\, United States
CATEGORIES:Business,Leadership
END:VEVENT
BEGIN:VEVENT
DTSTART;TZID=America/Chicago:20251118T100000
DTEND;TZID=America/Chicago:20251118T113000
DTSTAMP:20260422T171411
CREATED:20250815T174130Z
LAST-MODIFIED:20250815T174736Z
UID:14362-1763460000-1763465400@justinefroelker.com
SUMMARY:Enterprise University: Leading Across Generations With Courage and Clarity - FREE Virtual Workshop - Registration is Open
DESCRIPTION:More information and registration here. \nLeading Across Generations With Courage and Clarity \n\n\n\nAs teams span generations\, the need for human-centered leadership is more vital than ever. This workshop explores how to lead and work across generational lines with empathy\, emotional self-awareness and clear communication. Learn to navigate differences with curiosity\, build trust through connection and foster courageous conversations that strengthen collaboration and understanding.\n\n\n\n\n\n\n\n\n\nLearn how to live and lead with values\, integrity and emotional awareness\nDiscover how to build trust and connection through courageous vulnerability\nUnderstand how to communicate clearly\, stay curious and set healthy boundaries
URL:https://justinefroelker.com/event/enterprise-university-leading-across-generations-with-courage-and-clarity-free-virtual-workshop-registration-is-open/
LOCATION:Virtual Event\, Virtual Event\, United States
CATEGORIES:Business,Leadership
END:VEVENT
BEGIN:VEVENT
DTSTART;TZID=America/Chicago:20260216T123000
DTEND;TZID=America/Chicago:20260216T140000
DTSTAMP:20260422T171411
CREATED:20260102T162426Z
LAST-MODIFIED:20260213T170600Z
UID:17673-1771245000-1771250400@justinefroelker.com
SUMMARY:Courage in Practice: Living & Leading with Values
DESCRIPTION:Courage in Practice: Live Virtual Workshops\n90 minutes  |  Live via Riverside  |  $25 \nLive\, interactive workshops focused on practicing courage in real work and real life.\nEach workshop stands alone. Join one or more. \n\nLiving & Leading with Values\nLive 90-Minute Virtual Workshop \nValues are not posters on the wall or words we return to only when things feel easy.\nThey are the anchors we reach for in hard conversations\, decisions\, conflict\, and change. \nIn this live workshop\, we’ll slow down and explore what values really are\, how they show up\nin everyday work\, and how to use them as a shared language for trust\, accountability\,\nand connection. \nYou’ll walk away with greater clarity around your own values and practical ways to live\nand lead from them with courage and consistency. \nThis workshop is for you if you want to: \n\nClarify what your values truly are\nUse values as a guide in difficult moments\nLead and communicate with more clarity and alignment\nBuild trust through shared language and expectations\n\n\nFormat\n\nLive\, interactive virtual workshop\n90 minutes\nCamera-on participation encouraged\nRecording included\n\n\nRecording Notice\nThis live virtual workshop will be recorded. By registering and attending\, you consent\nto being on camera and understand that the recording may be used later for educational\npurposes. Participation is always at your comfort level. \n\nWhat You’ll Need\nTech Note:\nParticipants should join from a laptop or desktop using Chrome or Edge.\nHeadphones are recommended for best audio quality. \nWorkbook\, pen\, and paper:\nA workbook will be emailed to participants before the workshop. Be sure to have that\nworkbook either printed out or pulled up on screen\, along with pen and paper\, for full\nparticipation and takeaways.
URL:https://justinefroelker.com/event/courage-in-practice-living-leading-with-values/
LOCATION:Virtual Event\, Virtual Event\, United States
END:VEVENT
BEGIN:VEVENT
DTSTART;TZID=America/Chicago:20260225T123000
DTEND;TZID=America/Chicago:20260225T130000
DTSTAMP:20260422T171411
CREATED:20260103T161647Z
LAST-MODIFIED:20260213T170619Z
UID:17671-1772022600-1772024400@justinefroelker.com
SUMMARY:The Courage Circle
DESCRIPTION:
URL:https://justinefroelker.com/event/the-courage-circle-2-2-2-2-2-2/
LOCATION:Virtual Event\, Virtual Event\, United States
END:VEVENT
BEGIN:VEVENT
DTSTART;TZID=America/Chicago:20260311T100000
DTEND;TZID=America/Chicago:20260311T113000
DTSTAMP:20260422T171411
CREATED:20260113T202554Z
LAST-MODIFIED:20260225T204426Z
UID:17879-1773223200-1773228600@justinefroelker.com
SUMMARY:Enterprise University: Courage is Built Here™: The Skills\, Tools and Language of Courageous Leadership
DESCRIPTION:More information and registration here. \nThe Skills\, Tools and Language of Courageous Leadership \n\n\n\nCourage is Built Here is a transformative curriculum that will equip attendees with tools to build self-awareness\, authenticity and resilience\, fostering deeper connection at work and at home. Participants will leave with a stronger sense of self and practical ways to lead well.\n\n\n\n\n\n\n\n\n\nBuild self-awareness to lead with authenticity and purpose\nStrengthen resilience through practical\, daily courage practices\nFoster connection by leading with empathy\, clarity and trust
URL:https://justinefroelker.com/event/enterprise-university-courage-is-built-here-the-skills-tools-and-language-of-courageous-leadership/
LOCATION:Virtual Event\, Virtual Event\, United States
CATEGORIES:Business,Leadership
END:VEVENT
BEGIN:VEVENT
DTSTART;TZID=America/Chicago:20260408T123000
DTEND;TZID=America/Chicago:20260408T130000
DTSTAMP:20260422T171411
CREATED:20260111T185304Z
LAST-MODIFIED:20260325T175409Z
UID:18656-1775651400-1775653200@justinefroelker.com
SUMMARY:The Courage Circle
DESCRIPTION:
URL:https://justinefroelker.com/event/the-courage-circle-2-2-2-2-2-2-2-2-2-2-2/
LOCATION:Virtual Event\, Virtual Event\, United States
END:VEVENT
BEGIN:VEVENT
DTSTART;TZID=America/Chicago:20260513T123000
DTEND;TZID=America/Chicago:20260513T130000
DTSTAMP:20260422T171411
CREATED:20260116T184317Z
LAST-MODIFIED:20260422T142613Z
UID:18655-1778675400-1778677200@justinefroelker.com
SUMMARY:The Courage Circle
DESCRIPTION:
URL:https://justinefroelker.com/event/the-courage-circle-2-2-2-2-2-2-2-2-2-2/
LOCATION:Virtual Event\, Virtual Event\, United States
END:VEVENT
BEGIN:VEVENT
DTSTART;TZID=America/Chicago:20260520T100000
DTEND;TZID=America/Chicago:20260520T113000
DTSTAMP:20260422T171411
CREATED:20260225T203230Z
LAST-MODIFIED:20260225T204237Z
UID:17882-1779271200-1779276600@justinefroelker.com
SUMMARY:Enterprise University: Empathy and Accountability: The Two Skills Every Leader Needs
DESCRIPTION:More information and registration here. \nEmpathy and Accountability: The Two Skills Every Leader Needs \n\n\n\nGreat leadership requires both empathy and accountability. In this course\, leaders will learn how to connect with compassion\, communicate with clarity\, and hold boundaries that support trust\, growth and courageous cultures.\n\n\n\n\n\n\n\n\n\nLead with empathy to build trust and real connection\nUse clear communication to hold healthy boundaries\nNavigate hard conversations with courage and integrity
URL:https://justinefroelker.com/event/enterprise-university-empathy-and-accountability-the-two-skills-every-leader-needs/
LOCATION:Virtual Event\, Virtual Event\, United States
CATEGORIES:Business,Leadership
END:VEVENT
END:VCALENDAR